BEGIN:VCALENDAR
VERSION:2.0
PRODID:-//Dablon Vineyards &amp; Winery - ECPv6.15.18//NONSGML v1.0//EN
CALSCALE:GREGORIAN
METHOD:PUBLISH
X-WR-CALNAME:Dablon Vineyards &amp; Winery
X-ORIGINAL-URL:https://dablon.com
X-WR-CALDESC:Events for Dablon Vineyards &amp; Winery
REFRESH-INTERVAL;VALUE=DURATION:PT1H
X-Robots-Tag:noindex
X-PUBLISHED-TTL:PT1H
BEGIN:VTIMEZONE
TZID:UTC
BEGIN:STANDARD
TZOFFSETFROM:+0000
TZOFFSETTO:+0000
TZNAME:UTC
DTSTART:20230101T000000
END:STANDARD
END:VTIMEZONE
BEGIN:VEVENT
DTSTART;TZID=UTC:20240721T150000
DTEND;TZID=UTC:20240721T170000
DTSTAMP:20260420T115139
CREATED:20240206T181108Z
LAST-MODIFIED:20240618T201522Z
UID:51588-1721574000-1721581200@dablon.com
SUMMARY:Live Music with Matt Gabriel
DESCRIPTION:Based in Grand Rapids\, Michigan\, Matt Gabriel is a singer/songwriter who has spent over a decade writing and performing music around the country. Matt performs the quality of Folk and Blues you would expect from an artist who grew up between Chicago and Detroit. A must-see live show with a very approachable recorded sound. It’s music you can trust and believe in.
URL:https://dablon.com/event/live-music-with-matt-gabriel-26/
END:VEVENT
END:VCALENDAR