BEGIN:VCALENDAR
VERSION:2.0
PRODID:-//Dablon Vineyards &amp; Winery - ECPv6.15.18//NONSGML v1.0//EN
CALSCALE:GREGORIAN
METHOD:PUBLISH
X-WR-CALNAME:Dablon Vineyards &amp; Winery
X-ORIGINAL-URL:https://dablon.com
X-WR-CALDESC:Events for Dablon Vineyards &amp; Winery
REFRESH-INTERVAL;VALUE=DURATION:PT1H
X-Robots-Tag:noindex
X-PUBLISHED-TTL:PT1H
BEGIN:VTIMEZONE
TZID:UTC
BEGIN:STANDARD
TZOFFSETFROM:+0000
TZOFFSETTO:+0000
TZNAME:UTC
DTSTART:20240101T000000
END:STANDARD
END:VTIMEZONE
BEGIN:VEVENT
DTSTART;TZID=UTC:20250102T181000
DTEND;TZID=UTC:20250102T181000
DTSTAMP:20260424T135940
CREATED:20241024T142521Z
LAST-MODIFIED:20241105T180109Z
UID:51761-1735841400-1735841400@dablon.com
SUMMARY:MUSIC BOX FILMS TASTING ROOM MOVIE NIGHTS - The Captain
DESCRIPTION:Based on the arresting true story of the Executioner of Emsland\, The Captain follows a German army deserter\, Willi Herold (Max Hubacher)\, after he finds an abandoned Nazi captain’s uniform in the final weeks of World War II. Emboldened by the authority the uniform grants him\, he amasses a band of stragglers who cede to his command despite the suspicions of some. Citing direct orders from the Fuhrer himself\, he soon takes command of a camp holding German soldiers accused of desertion and begins to dispense harsh justice. Increasingly intoxicated by the unquestioned authority\, this enigmatic imposter soon discovers that many people will blindly follow the leader\, whomever that happens to be. Simultaneously a historical docudrama and sociological examination with undertones of the absurd\, The Captain presents fascism as something of a game to be played by those most gullible and unscrupulous. \nLINK TO TRAILER: The Captain – International Films – Independent Films | Music Box Films
URL:https://dablon.com/event/music-box-films-tasting-room-movie-nights-the-captain/
END:VEVENT
END:VCALENDAR