BEGIN:VCALENDAR
VERSION:2.0
PRODID:-//Dablon Vineyards &amp; Winery - ECPv6.15.18//NONSGML v1.0//EN
CALSCALE:GREGORIAN
METHOD:PUBLISH
X-ORIGINAL-URL:https://dablon.com
X-WR-CALDESC:Events for Dablon Vineyards &amp; Winery
REFRESH-INTERVAL;VALUE=DURATION:PT1H
X-Robots-Tag:noindex
X-PUBLISHED-TTL:PT1H
BEGIN:VTIMEZONE
TZID:UTC
BEGIN:STANDARD
TZOFFSETFROM:+0000
TZOFFSETTO:+0000
TZNAME:UTC
DTSTART:20240101T000000
END:STANDARD
END:VTIMEZONE
BEGIN:VEVENT
DTSTART;TZID=UTC:20251207T150000
DTEND;TZID=UTC:20251207T170000
DTSTAMP:20260421T004001
CREATED:20250418T010752Z
LAST-MODIFIED:20250418T010752Z
UID:51932-1765119600-1765126800@dablon.com
SUMMARY:Live Music with Lexi Adams
DESCRIPTION:Originally from southwest Michigan\, Lexi moved to Nashville\, TN in 2008 to pursue songwriting at Belmont University. After graduation\, Lexi remained in Nashville to continue her pursuit of music and focus on sharpening her craft as a songwriter. She aims to only write music from her heart; shaping lyrics about her faith\, life experiences\, and lessons learned. Lexi knows the only way to truly connect with her audience is through sharing her stories and conveying heart through lyrics. Growing up\, her mother always told her — “if you can’t feel the song\, then it means nothing.” In the last 5 years\, Lexi has been living the dream: playing music full time\, in the Midwest! She currently lives in Michigan but spends most of her time on the road traveling to different cities in the region. Lexi also recently released her 5 song EP titled\, “Lightning.” While she plans on moving back to music city when the time is right\, her life and career is thriving in the Midwest.
URL:https://dablon.com/event/live-music-with-lexi-adams-3/
END:VEVENT
END:VCALENDAR