BEGIN:VCALENDAR
VERSION:2.0
PRODID:-//Dablon Vineyards &amp; Winery - ECPv6.15.18//NONSGML v1.0//EN
CALSCALE:GREGORIAN
METHOD:PUBLISH
X-WR-CALNAME:Dablon Vineyards &amp; Winery
X-ORIGINAL-URL:https://dablon.com
X-WR-CALDESC:Events for Dablon Vineyards &amp; Winery
REFRESH-INTERVAL;VALUE=DURATION:PT1H
X-Robots-Tag:noindex
X-PUBLISHED-TTL:PT1H
BEGIN:VTIMEZONE
TZID:UTC
BEGIN:STANDARD
TZOFFSETFROM:+0000
TZOFFSETTO:+0000
TZNAME:UTC
DTSTART:20250101T000000
END:STANDARD
END:VTIMEZONE
BEGIN:VEVENT
DTSTART;TZID=UTC:20260122T181000
DTEND;TZID=UTC:20260122T181000
DTSTAMP:20260421T012548
CREATED:20251030T184910Z
LAST-MODIFIED:20251210T182410Z
UID:51998-1769105400-1769105400@dablon.com
SUMMARY:Music Box Films Tasting Room Movie Nights – Transit
DESCRIPTION:In Christian Petzold’s brilliant and haunting modern-day adaptation of Anna Seghers’s 1942 novel\, Transit Visa\, Georg\, a German refugee (Franz Rogowski\, Happy End)\, flees to Marseille assuming the identity of a recently deceased writer whose papers he is carrying. There he delves into the delicate and complex culture of the refugee community\, becoming enmeshed in the lives of a young mother and son and falling for a mysterious woman named Marie (Paula Beer\, Frantz). \n\n\nTrailer: Transit
URL:https://dablon.com/event/music-box-films-tasting-room-movie-nights-stuffed/
CATEGORIES:Tasting Room Movie Nights
END:VEVENT
END:VCALENDAR