BEGIN:VCALENDAR
VERSION:2.0
PRODID:-//Dablon Vineyards &amp; Winery - ECPv6.15.18//NONSGML v1.0//EN
CALSCALE:GREGORIAN
METHOD:PUBLISH
X-WR-CALNAME:Dablon Vineyards &amp; Winery
X-ORIGINAL-URL:https://dablon.com
X-WR-CALDESC:Events for Dablon Vineyards &amp; Winery
REFRESH-INTERVAL;VALUE=DURATION:PT1H
X-Robots-Tag:noindex
X-PUBLISHED-TTL:PT1H
BEGIN:VTIMEZONE
TZID:UTC
BEGIN:STANDARD
TZOFFSETFROM:+0000
TZOFFSETTO:+0000
TZNAME:UTC
DTSTART:20250101T000000
END:STANDARD
END:VTIMEZONE
BEGIN:VEVENT
DTSTART;TZID=UTC:20260424T183000
DTEND;TZID=UTC:20260424T203000
DTSTAMP:20260424T103231
CREATED:20260404T193929Z
LAST-MODIFIED:20260410T225534Z
UID:52120-1777055400-1777062600@dablon.com
SUMMARY:Euchre Night
DESCRIPTION:*RESERVATIONS REQUIRED: Grab your favorite Euchre partner and enjoy a fun night of cards & wine! A complimentary pour will be offered to all wine club members. No fee to play\, please reserve your spot! April 24th from 6:30 – 8:30PM. \nRESERVE HERE: Visit – Dablon Vineyards & Winery \n 
URL:https://dablon.com/event/euchre-night/
END:VEVENT
END:VCALENDAR