BEGIN:VCALENDAR
VERSION:2.0
PRODID:-//Dablon Vineyards &amp; Winery - ECPv6.15.18//NONSGML v1.0//EN
CALSCALE:GREGORIAN
METHOD:PUBLISH
X-WR-CALNAME:Dablon Vineyards &amp; Winery
X-ORIGINAL-URL:https://dablon.com
X-WR-CALDESC:Events for Dablon Vineyards &amp; Winery
REFRESH-INTERVAL;VALUE=DURATION:PT1H
X-Robots-Tag:noindex
X-PUBLISHED-TTL:PT1H
BEGIN:VTIMEZONE
TZID:UTC
BEGIN:STANDARD
TZOFFSETFROM:+0000
TZOFFSETTO:+0000
TZNAME:UTC
DTSTART:20250101T000000
END:STANDARD
END:VTIMEZONE
BEGIN:VEVENT
DTSTART;TZID=UTC:20260205T181000
DTEND;TZID=UTC:20260205T181000
DTSTAMP:20260419T135822
CREATED:20251030T190512Z
LAST-MODIFIED:20251210T191124Z
UID:52000-1770315000-1770315000@dablon.com
SUMMARY:Music Box Films Tasting Room Movie Nights – Last Ride
DESCRIPTION:Shot in stunning widescreen cinematography\, Last Ride is a heartbreaking road movie through the ravishing\, remote and rugged South Australian outback as ex-jailbird fugitive father Kev (Hugo Weaving\, in a tender and bravura performance) takes his 10-year old son Chook (newcomer Tom Russell) on the run from the law. Based on Denise Young’s acclaimed novel\, Last Ride is the riveting and morally complex portrayal of a brutal yet loving petty criminal struggling with parenthood. As father and son journey into the outback and an unknown future\, they pit themselves against the elements and each other. In order to survive\, Chook will have to make a choice between what he knows to be right and the love of his father\, a decision which will have devastating consequences on both of their lives. \n\n\nTrailer: Last Ride
URL:https://dablon.com/event/music-box-films-tasting-room-movie-nights-leonor-will-never-die/
CATEGORIES:Tasting Room Movie Nights
END:VEVENT
END:VCALENDAR