BEGIN:VCALENDAR
VERSION:2.0
PRODID:-//Dablon Vineyards &amp; Winery - ECPv6.15.18//NONSGML v1.0//EN
CALSCALE:GREGORIAN
METHOD:PUBLISH
X-ORIGINAL-URL:https://dablon.com
X-WR-CALDESC:Events for Dablon Vineyards &amp; Winery
REFRESH-INTERVAL;VALUE=DURATION:PT1H
X-Robots-Tag:noindex
X-PUBLISHED-TTL:PT1H
BEGIN:VTIMEZONE
TZID:UTC
BEGIN:STANDARD
TZOFFSETFROM:+0000
TZOFFSETTO:+0000
TZNAME:UTC
DTSTART:20250101T000000
END:STANDARD
END:VTIMEZONE
BEGIN:VEVENT
DTSTART;TZID=UTC:20260305T181000
DTEND;TZID=UTC:20260305T181000
DTSTAMP:20260425T132017
CREATED:20251030T191455Z
LAST-MODIFIED:20251202T010031Z
UID:52003-1772734200-1772734200@dablon.com
SUMMARY:Music Box Films Tasting Room Movie Nights – Our Blood is Wine
DESCRIPTION:Filmmaker Emily Railsback and award-winning sommelier Jeremy Quinn provide intimate access to rural family life in the Republic of Georgia as they explore the rebirth of 8\,000-year-old winemaking traditions almost lost during the period of Soviet rule. By using unobtrusive iPhone technology\, Railsback brings the voices and ancestral legacies of modern Georgians directly to the viewer\, revealing an intricate and resilient society that has survived regular foreign invasion and repeated attempts to erase Georgian culture. The revival of traditional winemaking is the central force driving this powerful\, independent and autonomous nation to find its 21st century identity. \nTrailer: Our Blood Is Wine
URL:https://dablon.com/event/music-box-films-tasting-room-movie-nights-our-blood-is-wine-2/
CATEGORIES:Tasting Room Movie Nights
END:VEVENT
END:VCALENDAR