BEGIN:VCALENDAR
VERSION:2.0
PRODID:-//Dablon Vineyards &amp; Winery - ECPv6.15.18//NONSGML v1.0//EN
CALSCALE:GREGORIAN
METHOD:PUBLISH
X-WR-CALNAME:Dablon Vineyards &amp; Winery
X-ORIGINAL-URL:https://dablon.com
X-WR-CALDESC:Events for Dablon Vineyards &amp; Winery
REFRESH-INTERVAL;VALUE=DURATION:PT1H
X-Robots-Tag:noindex
X-PUBLISHED-TTL:PT1H
BEGIN:VTIMEZONE
TZID:UTC
BEGIN:STANDARD
TZOFFSETFROM:+0000
TZOFFSETTO:+0000
TZNAME:UTC
DTSTART:20230101T000000
END:STANDARD
END:VTIMEZONE
BEGIN:VEVENT
DTSTART;TZID=UTC:20241201T150000
DTEND;TZID=UTC:20241201T170000
DTSTAMP:20260424T123034
CREATED:20240206T181624Z
LAST-MODIFIED:20240618T210250Z
UID:51595-1733065200-1733072400@dablon.com
SUMMARY:Live Music with Matt Gabriel
DESCRIPTION:Based in Grand Rapids\, Michigan\, Matt Gabriel is a singer/songwriter who has spent over a decade writing and performing music around the country. Matt performs the quality of Folk and Blues you would expect from an artist who grew up between Chicago and Detroit. A must-see live show with a very approachable recorded sound. It’s music you can trust and believe in.
URL:https://dablon.com/event/live-music-with-matt-gabriel-33/
END:VEVENT
BEGIN:VEVENT
DTSTART;TZID=UTC:20241205T181000
DTEND;TZID=UTC:20241205T181000
DTSTAMP:20260424T123034
CREATED:20241024T142031Z
LAST-MODIFIED:20241105T175813Z
UID:51757-1733422200-1733422200@dablon.com
SUMMARY:MUSIC BOX FILMS TASTING ROOM MOVIE NIGHTS - Hagazussa
DESCRIPTION:In a remote Alpine village in the 15th century\, the orphan Albrun grows up to become a marked woman. The scapegoat of ancient superstitions and monstrous misogyny\, this self-styled witch begins to assert her otherworldly birthright. The plague she conjures makes human cruelty look pathetic and small by comparison. This atmospheric debut feature from Lukas Feigelfeld is a haunting pagan death trip and a startling vision of psychedelic horror. \nLINK TO TRAILER: Hagazussa – International Films – Independent Films | Music Box Films
URL:https://dablon.com/event/music-box-films-tasting-room-movie-nights-hagazussa/
CATEGORIES:Tasting Room Movie Nights
END:VEVENT
BEGIN:VEVENT
DTSTART;TZID=UTC:20241208T150000
DTEND;TZID=UTC:20241208T170000
DTSTAMP:20260424T123034
CREATED:20240206T182420Z
LAST-MODIFIED:20240618T210331Z
UID:51608-1733670000-1733677200@dablon.com
SUMMARY:Live Music with Chris Burch
DESCRIPTION:Chris Burch is an alternative rock influenced artist who has been performing to audiences across the country. Using a guitar as the spill canvas for his sharp songwriting\, raw vocal appeal\, and bravely fresh sound\, Chris delivers his songs with a reckless intensity that sets him apart from his contemporaries.
URL:https://dablon.com/event/live-music-with-chris-burch-43/
END:VEVENT
BEGIN:VEVENT
DTSTART;TZID=UTC:20241212T181000
DTEND;TZID=UTC:20241212T181000
DTSTAMP:20260424T123034
CREATED:20241024T142259Z
LAST-MODIFIED:20241105T175855Z
UID:51758-1734027000-1734027000@dablon.com
SUMMARY:MUSIC BOX FILMS TASTING ROOM MOVIE NIGHTS - Heavy Trip
DESCRIPTION:In this offbeat comedy from Finland\, Turo is stuck in a small village where the best thing in his life is being the lead vocalist for the amateur metal band Impaled Rektum. The only problem? He and his bandmates have practiced for 12 years without playing a single gig. The guys get a surprise visitor from Norway—the promoter for a huge heavy metal music festival—and decide it’s now or never. They steal a van\, a corpse\, and even a new drummer in order to make their dreams a reality. \nLINK TO TRAILER: Heavy Trip – International Films – Independent Films | Music Box Films
URL:https://dablon.com/event/music-box-films-tasting-room-movie-nights-heavy-trip/
CATEGORIES:Tasting Room Movie Nights
END:VEVENT
BEGIN:VEVENT
DTSTART;TZID=UTC:20241215T150000
DTEND;TZID=UTC:20241215T170000
DTSTAMP:20260424T123034
CREATED:20240206T183719Z
LAST-MODIFIED:20240618T210414Z
UID:51630-1734274800-1734282000@dablon.com
SUMMARY:Live Music with Jim Kalabokis
DESCRIPTION:Jim Kalabokis is an acoustic artist originally from the Chicago-area who enjoys playing classic rock\, folk and americana music throughout the southwest region of Michigan and will offer your favorites.
URL:https://dablon.com/event/live-music-with-jim-kalabokis-5/
END:VEVENT
BEGIN:VEVENT
DTSTART;TZID=UTC:20241215T180000
DTEND;TZID=UTC:20241215T200000
DTSTAMP:20260424T123034
CREATED:20241204T010248Z
LAST-MODIFIED:20241204T010920Z
UID:51786-1734285600-1734292800@dablon.com
SUMMARY:WINTER SPARKLE: A Toast to the Season!
DESCRIPTION:Join us Sunday\, the 15th of December @ 6:00pm in The Tasting Room. Winter Sparkle: A Toast to the Season\, is an event that promises to elevate your appreciation for the art of sparkling winemaking. Led by our Wine Club Manager & WSET3 Sommelier\, Lucas Waters\, we will indulge in three delightful vintage tastings of our renowned Blanc de Blanc\, where each sip will unveil a tapestry of aromas & flavors waiting to be explored. Lucas will offer knowledge to deepen your understanding of the craftsmanship behind each bottle. \nCall: (269) 999-6111\nEmail: wineclub@dablon.com \n$50/Per Person (Wine Club Members)\n$65/Per Person (Public Guests)\n*Join The Wine Club at Event & Receive $15 Wine Credit. \n 
URL:https://dablon.com/event/winter-sparkle-a-toast-to-the-season/
END:VEVENT
BEGIN:VEVENT
DTSTART;TZID=UTC:20241222T150000
DTEND;TZID=UTC:20241222T170000
DTSTAMP:20260424T123034
CREATED:20240311T181648Z
LAST-MODIFIED:20240311T181648Z
UID:51650-1734879600-1734886800@dablon.com
SUMMARY:Live Music with Joseph Bisceglia
DESCRIPTION:Joe Bisceglia is an experienced singer/songwriter/entertainer who has performed solo as well as with many other musicians\, artists\, and bands\, currently with the Bisceglia Brothers & Friends. Despite a demanding “day job” as a prominent lawyer and partner in a large Chicago law firm\, he has never abandoned his love of music. Over his long ‘second career’ in music\, he has performed in numerous venues throughout the Chicago area\, and in Michigan where he has a second home\, including for example Buddy Guy’s Legends\, Lincoln Hall\, the Double Door\, Bottom Lounge\, Phyllis Musical Inn\, Jonny Cabs\, the Acorn Theater in Three Oaks Michigan\, and solo at several wineries in southwest Michigan. His powerful vocal and guitar renditions of a wide variety of popular music\, both new and old\, as well as his original compositions\, appeal to all audiences.
URL:https://dablon.com/event/live-music-with-joseph-bisceglia-4/
END:VEVENT
BEGIN:VEVENT
DTSTART;TZID=UTC:20241226T181000
DTEND;TZID=UTC:20241226T181000
DTSTAMP:20260424T123034
CREATED:20241024T142432Z
LAST-MODIFIED:20241105T180030Z
UID:51760-1735236600-1735236600@dablon.com
SUMMARY:MUSIC BOX FILMS TASTING ROOM MOVIE NIGHTS -  Mozart’s Sister
DESCRIPTION:Mozart’s Sister is a re-imagined account of the early life of Maria Anna ‘Nannerl’ Mozart\, five years older than Wolfgang and a musical prodigy in her own right. Once the featured performer\, Nannerl has given way to Wolfgang as the main attraction\, as their strict but loving father Leopold tours his talented offspring in front of the royal courts of pre-French Revolution Europe. Approaching marriageable age and now forbidden to play the violin or compose\, Nannerl chafes at the limitations imposed on her gender. But a friendship with the son and daughter of Louis XV offers her ways to challenge the established sexual and social order. \nLINK TO TRAILER: Mozart’s Sister – International Films – Independent Films | Music Box Films
URL:https://dablon.com/event/music-box-films-tasting-room-movie-nights-mozarts-sister/
CATEGORIES:Tasting Room Movie Nights
END:VEVENT
BEGIN:VEVENT
DTSTART;TZID=UTC:20241229T150000
DTEND;TZID=UTC:20241229T170000
DTSTAMP:20260424T123034
CREATED:20240206T182450Z
LAST-MODIFIED:20240618T210516Z
UID:51609-1735484400-1735491600@dablon.com
SUMMARY:Live Music with Chris Burch
DESCRIPTION:Chris Burch is an alternative rock influenced artist who has been performing to audiences across the country. Using a guitar as the spill canvas for his sharp songwriting\, raw vocal appeal\, and bravely fresh sound\, Chris delivers his songs with a reckless intensity that sets him apart from his contemporaries.
URL:https://dablon.com/event/live-music-with-chris-burch-44/
END:VEVENT
END:VCALENDAR