BEGIN:VCALENDAR
VERSION:2.0
PRODID:-//Dablon Vineyards &amp; Winery - ECPv6.15.18//NONSGML v1.0//EN
CALSCALE:GREGORIAN
METHOD:PUBLISH
X-ORIGINAL-URL:https://dablon.com
X-WR-CALDESC:Events for Dablon Vineyards &amp; Winery
REFRESH-INTERVAL;VALUE=DURATION:PT1H
X-Robots-Tag:noindex
X-PUBLISHED-TTL:PT1H
BEGIN:VTIMEZONE
TZID:UTC
BEGIN:STANDARD
TZOFFSETFROM:+0000
TZOFFSETTO:+0000
TZNAME:UTC
DTSTART:20240101T000000
END:STANDARD
END:VTIMEZONE
BEGIN:VEVENT
DTSTART;TZID=UTC:20251204T181000
DTEND;TZID=UTC:20251204T181000
DTSTAMP:20260420T231244
CREATED:20251030T174334Z
LAST-MODIFIED:20251202T004224Z
UID:51993-1764871800-1764871800@dablon.com
SUMMARY:Music Box Films Tasting Room Movie Nights – Betty Page Reveals All
DESCRIPTION:Academy Award-nominated filmmaker Mark Mori’s Bettie Page Reveals All is an intimate look at one of the world’s most recognized sex symbols\, told in her own words for the first time. In Mori’s alluring documentary\, the real Bettie Page emerges from the veil of myth and rumor via audio interviews taped a decade prior to her death in 2008. With earthy\, razor sharp wit\, Bettie tells her life story — from humble beginnings as one of six children in an impoverished southern family\, to high school salutatorian\, to scandalous 50s pin-up model\, to shocking retirement in 1957 at the peak of her modeling career. Sharing rare details about her short-lived first marriage and many torrid affairs\, this keen insider’s glimpse follows Bettie through decades of broken marriages\, born-again Christianity\, and bouts of mental illness\, before her ultimate return to the public eye in the early 90’s\, unaware of her cult status. Ranked by Forbes in 2012 as one of the top ten posthumous celebrity earners\, Bettie and her enduring legacy continue to flourish. With a stunning array of gorgeous photographs\, unusual archival material\, and playful movie footage\, Bettie Page Reveals All shows how Bettie’s unabashed sexual expression and provocative poses set the stage for the sexual revolution and ushered in a modern era in fashion. For stars like Katy Perry and Beyonce\, as well as new generations of adoring fans around the world\, Bettie remains an irresistible style icon and an empowering role model. \nTrailer: Betty Page Reveals All
URL:https://dablon.com/event/music-box-films-tasting-room-movie-nights-betty-page-reveals-all/
END:VEVENT
BEGIN:VEVENT
DTSTART;VALUE=DATE:20251205
DTEND;VALUE=DATE:20251206
DTSTAMP:20260420T231244
CREATED:20251120T190658Z
LAST-MODIFIED:20251120T190658Z
UID:52031-1764892800-1764979199@dablon.com
SUMMARY:Holiday Heist
DESCRIPTION:🍷✨ Wine Club Appreciation Day (Holiday Heist) — December 5th! ✨🍷 \nWine Club members\, this one’s for you.On December 5th\, you’re invited to taste anything in our tasting room for free — including a special selection of deeply discounted cellar wines pulled just for the occasion. \nWe’ve had an incredible harvest this year\, and as we make room for what’s coming\, we wanted to share the celebration (and the savings!) with the people who make Dablon what it is. \nRaise a glass with us — we can’t wait to see you there! 🍇💛🍷
URL:https://dablon.com/event/holiday-heist/
END:VEVENT
BEGIN:VEVENT
DTSTART;VALUE=DATE:20251206
DTEND;VALUE=DATE:20251207
DTSTAMP:20260420T231244
CREATED:20251112T175113Z
LAST-MODIFIED:20251112T175419Z
UID:52013-1764979200-1765065599@dablon.com
SUMMARY:Uncork Kindness: The Benton Harbor Soup Kitchen
DESCRIPTION:oin us for a day of giving back while enjoying your favorite Dablon wines. On Friday\, December 6th\, Dablon Vineyards & Winery will host Uncork Kindness\, a special event dedicated to supporting our local community. \n20% of all proceeds from the day will be donated to The Benton Harbor Soup Kitchen – Heart-to-Heart. \nWhether you’re stopping in for a tasting\, picking up a bottle (or two) for the holidays\, or simply spending time with friends in our tasting room\, your visit will help feed local families in need. \nIt’s the perfect reason to raise a glass — because great wine deserves a great cause. \n🍷 Date: Friday\, December 6th🕓 Time: All Day📍 Location: Dablon Vineyards & Winery\, 111 W. Shawnee Rd\, Baroda\, MI \nCome sip\, share\, and spread kindness this season at Dablon.
URL:https://dablon.com/event/uncork-kindness-the-benton-harbor-soup-kitchen/
LOCATION:Dablon Vineyards & Winery\, 111 W Shawnee Rd\, Baroda\, 49101\, United States
END:VEVENT
BEGIN:VEVENT
DTSTART;TZID=UTC:20251207T150000
DTEND;TZID=UTC:20251207T170000
DTSTAMP:20260420T231244
CREATED:20250418T010752Z
LAST-MODIFIED:20250418T010752Z
UID:51932-1765119600-1765126800@dablon.com
SUMMARY:Live Music with Lexi Adams
DESCRIPTION:Originally from southwest Michigan\, Lexi moved to Nashville\, TN in 2008 to pursue songwriting at Belmont University. After graduation\, Lexi remained in Nashville to continue her pursuit of music and focus on sharpening her craft as a songwriter. She aims to only write music from her heart; shaping lyrics about her faith\, life experiences\, and lessons learned. Lexi knows the only way to truly connect with her audience is through sharing her stories and conveying heart through lyrics. Growing up\, her mother always told her — “if you can’t feel the song\, then it means nothing.” In the last 5 years\, Lexi has been living the dream: playing music full time\, in the Midwest! She currently lives in Michigan but spends most of her time on the road traveling to different cities in the region. Lexi also recently released her 5 song EP titled\, “Lightning.” While she plans on moving back to music city when the time is right\, her life and career is thriving in the Midwest.
URL:https://dablon.com/event/live-music-with-lexi-adams-3/
END:VEVENT
BEGIN:VEVENT
DTSTART;TZID=UTC:20251211T181000
DTEND;TZID=UTC:20251211T181000
DTSTAMP:20260420T231244
CREATED:20251030T174629Z
LAST-MODIFIED:20251210T180550Z
UID:51994-1765476600-1765476600@dablon.com
SUMMARY:Music Box Films Tasting Room Movie Nights – Ennio
DESCRIPTION:Giuseppe Tornatore\, director of the beloved CINEMA PARADISO\, turns his camera on his longtime collaborator Ennio Morricone (1928 – 2020) in a moving and comprehensive profile of the indefatigable composer. Tornatore’s documentary portrait explores the breadth of the maestro’s career\, from his early Italian pop songs to the fistful of unforgettable film scores that he wrote\, including THE GOOD\, THE BAD\, AND THE UGLY\, THE THING\, DAYS OF HEAVEN\, and hundreds of others. This examination thoughtfully captures insightful commentary from Morricone’s closest collaborators and contemporaries\, featuring testimonies from artists and directors such as Bernardo Bertolucci\, Marco Bellocchio\, Giuliano Montaldo\, Dario Argento\, Clint Eastwood\, Joan Baez\, Quentin Tarantino\, and more. ENNIO affords the master one last chance to recount his career and deconstruct the artistic process that led him to win two Academy Awards and author over 500 unforgettable soundtracks. public. Trailer: Ennio
URL:https://dablon.com/event/music-box-films-tasting-room-movie-nights-the-100-year-old-man-who-climbed-out-the-window-and-disappeared-2/
CATEGORIES:Tasting Room Movie Nights
END:VEVENT
BEGIN:VEVENT
DTSTART;TZID=UTC:20251214T150000
DTEND;TZID=UTC:20251214T170000
DTSTAMP:20260420T231244
CREATED:20250418T005013Z
LAST-MODIFIED:20250418T005013Z
UID:51917-1765724400-1765731600@dablon.com
SUMMARY:Live Music with Chris Burch
DESCRIPTION:Chris Burch is an alternative rock influenced artist who has been performing to audiences across the country. Using a guitar as the spill canvas for his sharp songwriting\, raw vocal appeal\, and bravely fresh sound\, Chris delivers his songs with a reckless intensity that sets him apart from his contemporaries.
URL:https://dablon.com/event/live-music-with-chris-burch-68/
END:VEVENT
BEGIN:VEVENT
DTSTART;TZID=UTC:20251218T181000
DTEND;TZID=UTC:20251218T181000
DTSTAMP:20260420T231244
CREATED:20251030T174834Z
LAST-MODIFIED:20251210T180923Z
UID:51995-1766081400-1766081400@dablon.com
SUMMARY:Music Box Films Tasting Room Movie Nights – Full Time
DESCRIPTION:Julie (Laure Calamy) can’t catch a break. For a single mother raising two children in the suburbs of Paris but working in the city\, the commuter train is a lifeline–and it’s suddenly been severed during the latest transit strike. Without the train\, Julie can’t get to her job as the head maid at a five-star hotel–or to the interview for a better job she has lined up. Out of desperation\, Julie turns to neighbors and her own gutsy resourcefulness to get to work and barely makes it back in time to pick up her kids before bedtime. Worse yet: it’s only Monday. Julie is at her breaking point and soon finds herself bending the rules to stay afloat in a ruthless society as her responsibilities pile up. Anchored by Calamy’s powerful performance\, Full Time is an impossible race against time and a kinetic thriller assembled from the everyday obstacles faced by working parents everywhere. \n\n\nTrailer: Full Time
URL:https://dablon.com/event/music-box-films-tasting-room-movie-nights-ida/
CATEGORIES:Tasting Room Movie Nights
END:VEVENT
BEGIN:VEVENT
DTSTART;TZID=UTC:20251221T150000
DTEND;TZID=UTC:20251221T170000
DTSTAMP:20260420T231244
CREATED:20250418T005758Z
LAST-MODIFIED:20250418T005758Z
UID:51924-1766329200-1766336400@dablon.com
SUMMARY:Live Music with Edd Skjordal
DESCRIPTION:Edd has been playing drums and percussion for over fifty years with live music and recording projects being a part of his musical career. Venturing down his own path\, Edd enjoys playing acoustic guitar and singing. Playing Americana Acoustic 1960’s through 2025\, such as Tom Petty\, Van Morrison\, The Beatles\, Eagles\, and more…with over 400 songs in his catalog.
URL:https://dablon.com/event/live-music-with-edd-skjordal-22/
END:VEVENT
BEGIN:VEVENT
DTSTART;TZID=UTC:20251228T150000
DTEND;TZID=UTC:20251228T170000
DTSTAMP:20260420T231244
CREATED:20250418T005052Z
LAST-MODIFIED:20250418T005052Z
UID:51918-1766934000-1766941200@dablon.com
SUMMARY:Live Music with Chris Burch
DESCRIPTION:Chris Burch is an alternative rock influenced artist who has been performing to audiences across the country. Using a guitar as the spill canvas for his sharp songwriting\, raw vocal appeal\, and bravely fresh sound\, Chris delivers his songs with a reckless intensity that sets him apart from his contemporaries.
URL:https://dablon.com/event/live-music-with-chris-burch-69/
END:VEVENT
END:VCALENDAR